BEGIN:VCALENDAR
VERSION:2.0
PRODID:-//Klub chovateľov Alpského jazvečikovitého duriča - ECPv6.15.20//NONSGML v1.0//EN
CALSCALE:GREGORIAN
METHOD:PUBLISH
X-WR-CALNAME:Klub chovateľov Alpského jazvečikovitého duriča
X-ORIGINAL-URL:https://www.kchajd.sk
X-WR-CALDESC:Udalosti pre Klub chovateľov Alpského jazvečikovitého duriča
REFRESH-INTERVAL;VALUE=DURATION:PT1H
X-Robots-Tag:noindex
X-PUBLISHED-TTL:PT1H
BEGIN:VTIMEZONE
TZID:Europe/Bratislava
BEGIN:DAYLIGHT
TZOFFSETFROM:+0100
TZOFFSETTO:+0200
TZNAME:CEST
DTSTART:20240331T010000
END:DAYLIGHT
BEGIN:STANDARD
TZOFFSETFROM:+0200
TZOFFSETTO:+0100
TZNAME:CET
DTSTART:20241027T010000
END:STANDARD
BEGIN:DAYLIGHT
TZOFFSETFROM:+0100
TZOFFSETTO:+0200
TZNAME:CEST
DTSTART:20250330T010000
END:DAYLIGHT
BEGIN:STANDARD
TZOFFSETFROM:+0200
TZOFFSETTO:+0100
TZNAME:CET
DTSTART:20251026T010000
END:STANDARD
BEGIN:DAYLIGHT
TZOFFSETFROM:+0100
TZOFFSETTO:+0200
TZNAME:CEST
DTSTART:20260329T010000
END:DAYLIGHT
BEGIN:STANDARD
TZOFFSETFROM:+0200
TZOFFSETTO:+0100
TZNAME:CET
DTSTART:20261025T010000
END:STANDARD
BEGIN:DAYLIGHT
TZOFFSETFROM:+0100
TZOFFSETTO:+0200
TZNAME:CEST
DTSTART:20270328T010000
END:DAYLIGHT
BEGIN:STANDARD
TZOFFSETFROM:+0200
TZOFFSETTO:+0100
TZNAME:CET
DTSTART:20271031T010000
END:STANDARD
END:VTIMEZONE
BEGIN:VEVENT
DTSTART;VALUE=DATE:20250906
DTEND;VALUE=DATE:20250907
DTSTAMP:20260426T042218
CREATED:20250719T063614Z
LAST-MODIFIED:20250719T063614Z
UID:97521-1757116800-1757203199@www.kchajd.sk
SUMMARY:Farbiarske skúšky duričov - 6.9.2025 Lesenice
DESCRIPTION:Klub Chovateľov Alpského jazvečíkovitého duriča \npri Slovenskom poľovníckom zväze \nŠtefániková 10\, 811 05 Bratislava\, www.kchajd.sk \n————————————————————————————————————————————– \nPROPOZÍCIE \nna Farbiarske skúšky duričov (FD) \nSkúšky sa usporadúvajú v PO Hunter Lesenice \nDňa 6. 9. 2025 (sobota) \nZraz účastníkov skúšok: 8.00 hod.\, Farma Trebušovce. \nVšeobecné pokyny : \n– Skúšky sa konajú podľa platného skúšobného poriadku Slovenskej poľovníckej komory (SPK). \n– Rozhodcov deleguje kancelária SPK. \n– Skúšky sa konajú za každého počasia. \n– Skúšok sa môžu zúčastniť členovia KCHAJD. \n– Prihlášky sú k dispozícii na klubovej stránke KCHAJD\, prihlasovanie je on-line. \nPovinnosti vodiča : \nVodič musí mať viac ako 15 rokov. Pri prehliadke sa vodiči psov\, nevlastniaci platný poľovný lístok na území SR\, \nmusia preukázať\, že sú poistení zo zodpovednosti za spôsobené škody (môže to byť aj jednorazové poistenie). \nVodič pri veterinárnej prehliadke musí predložiť veterinárny preukaz: \n– v ktorom musí byť záznam o tom \, že pes bol očkovaný proti besnote\, psinke\, parvoviróze a infekčnej \nhepatitíde nie viac ako 1 rok a nie menej ako 4 týždne pred konaním skúšok. \n– potvrdenie o zdravotnom stave psa \, potvrdí súkromný veterinárny lekár v preukaze \n– preukaz o pôvode psa v ktorom musí byť zapísaný majiteľ psa \nPrihlasovanie on-line na www.kchajd.sk \nPoplatok za psa je 40\,-€ pre členov KCHAJD. \nPoplatok je potrebné uhradiť do dňa uzávierky prihlášok na číslo účtu (IBAN): \nSK62 0900 0000 0003 2339 7372. Do informácie pre príjemcu uviesť FD Lesenice \nVodič musí dbať na pokyny rozhodcov\, aby nebol narušený hladký priebeh skúšok. Psy\, ktoré nebudú priamo skúšané\, \nmusia byť uviazané v dostatočnej vzdialenosti od miesta skúšok. Za poranenie\, stratu psa usporiadateľ neručí. \nUzávierka prihlášok je 25.8.2025 ! \nKlub Chovateľov Alpského jazvečíkovitého duriča \nVýcvikár klubu: Ing. Jozef Telepun\, PhD. \nKontakt: +421 917 311 544\, email: vycvikar@kchajd.sk
URL:https://www.kchajd.sk/event/farbiarske-skusky-duricov-6-9-2025-lesenice/
LOCATION:Lesenice
CATEGORIES:Klubové skúšky
END:VEVENT
BEGIN:VEVENT
DTSTART;VALUE=DATE:20260516
DTEND;VALUE=DATE:20260517
DTSTAMP:20260426T042218
CREATED:20260305T173931Z
LAST-MODIFIED:20260305T173931Z
UID:125764-1778889600-1778975999@www.kchajd.sk
SUMMARY:Špecialna výstava a bonitacia Lučenec
DESCRIPTION:
URL:https://www.kchajd.sk/event/specialna-vystava-a-bonitacia-lucenec/
LOCATION:Lučenec
CATEGORIES:Bonitácie,Výstavy
END:VEVENT
BEGIN:VEVENT
DTSTART;VALUE=DATE:20260912
DTEND;VALUE=DATE:20260913
DTSTAMP:20260426T042218
CREATED:20260305T174023Z
LAST-MODIFIED:20260305T174023Z
UID:125767-1789171200-1789257599@www.kchajd.sk
SUMMARY:Klubová vystava s medzinarodnou účasťou a bonitácia AJD Svätý Anton
DESCRIPTION:
URL:https://www.kchajd.sk/event/klubova-vystava-s-medzinarodnou-ucastou-a-bonitacia-ajd-svaty-anton/
LOCATION:Svätý Anton\, Svätý Anton\, Slovenská republika
CATEGORIES:Bonitácie,Výstavy
END:VEVENT
END:VCALENDAR